BEGIN:VCALENDAR
VERSION:2.0
PRODID:-//Bridges of Hope - ECPv6.15.20//NONSGML v1.0//EN
CALSCALE:GREGORIAN
METHOD:PUBLISH
X-WR-CALNAME:Bridges of Hope
X-ORIGINAL-URL:https://www.bridgessc.org
X-WR-CALDESC:Events for Bridges of Hope
REFRESH-INTERVAL;VALUE=DURATION:PT1H
X-Robots-Tag:noindex
X-PUBLISHED-TTL:PT1H
BEGIN:VTIMEZONE
TZID:America/New_York
BEGIN:DAYLIGHT
TZOFFSETFROM:-0500
TZOFFSETTO:-0400
TZNAME:EDT
DTSTART:20200308T070000
END:DAYLIGHT
BEGIN:STANDARD
TZOFFSETFROM:-0400
TZOFFSETTO:-0500
TZNAME:EST
DTSTART:20201101T060000
END:STANDARD
BEGIN:DAYLIGHT
TZOFFSETFROM:-0500
TZOFFSETTO:-0400
TZNAME:EDT
DTSTART:20210314T070000
END:DAYLIGHT
BEGIN:STANDARD
TZOFFSETFROM:-0400
TZOFFSETTO:-0500
TZNAME:EST
DTSTART:20211107T060000
END:STANDARD
BEGIN:DAYLIGHT
TZOFFSETFROM:-0500
TZOFFSETTO:-0400
TZNAME:EDT
DTSTART:20220313T070000
END:DAYLIGHT
BEGIN:STANDARD
TZOFFSETFROM:-0400
TZOFFSETTO:-0500
TZNAME:EST
DTSTART:20221106T060000
END:STANDARD
END:VTIMEZONE
BEGIN:VEVENT
DTSTART;TZID=America/New_York:20211203T180000
DTEND;TZID=America/New_York:20211203T200000
DTSTAMP:20260423T055231
CREATED:20211019T181526Z
LAST-MODIFIED:20211028T182653Z
UID:5681-1638554400-1638561600@www.bridgessc.org
SUMMARY:South Carolina Stingray Non-profit of the Night
DESCRIPTION:December 3\, 2021 The South Carolina Stingrays are committed to being involved and playing an active role in our Charleston community. Bridges of Hope will be the Non-Profit of the Night program. They will highlight Bridges as a local charity organization that has made exceptional contributions to our community. We will have the opportunity to share our story\, fundraise\, and raise awareness. Please reach out to us with questions. \n  \n 
URL:https://www.bridgessc.org/event/south-carolina-stingray-non-profit-of-the-night/
END:VEVENT
BEGIN:VEVENT
DTSTART;TZID=America/New_York:20211214T130000
DTEND;TZID=America/New_York:20211214T143000
DTSTAMP:20260423T055231
CREATED:20210628T222749Z
LAST-MODIFIED:20210628T222749Z
UID:4726-1639486800-1639492200@www.bridgessc.org
SUMMARY:Family Workshop December
DESCRIPTION:December 14 Time: 6:00 – 7:15 PM Registration Required \nLocation: Bridges of Hope 1691 Turnbull Ave. North Charleston \nJoin us for a FREE family workshop\, pizza (served at 6pm)\, and activities for the whole family to enjoy. This month we will be creating a Blizzard together.
URL:https://www.bridgessc.org/event/family-workshop-december/
LOCATION:Bridges of Hope\, 1691 Turnbull Ave.\, North Charleston\,\, SC\, 29405\, United States
ORGANIZER;CN="Bridges of Hope":MAILTO:info@bridgessc.org
END:VEVENT
BEGIN:VEVENT
DTSTART;TZID=America/New_York:20211216T170000
DTEND;TZID=America/New_York:20211216T190000
DTSTAMP:20260423T055231
CREATED:20211021T145633Z
LAST-MODIFIED:20211214T164306Z
UID:5690-1639674000-1639681200@www.bridgessc.org
SUMMARY:Friends of Bridges Appreciation Event
DESCRIPTION:This is a special event for our volunteers & partners to celebrating our joint success supporting grieving children in 2021.\n\nDecember 16\, 2020 5pm-7pm @ DIG in the Park – North Charleston\, SC\n\nWe will be giving away door prizes\, including BOH Swag & local gift cards.\n\n\nThis is an outdoor event on a covered patio. We will be providing refreshments & appetizers. \n\nRVSP by Text or Email
URL:https://www.bridgessc.org/event/friends-of-bridges-appreciation-event/
LOCATION:DIG in the Park\, 1049 E Montague Ave\, North Charleston\, SC\, 29405\, United States
ORGANIZER;CN="Bridges of Hope":MAILTO:info@bridgessc.org
END:VEVENT
END:VCALENDAR