BEGIN:VCALENDAR
VERSION:2.0
PRODID:-//Bridges of Hope - ECPv6.15.20//NONSGML v1.0//EN
CALSCALE:GREGORIAN
METHOD:PUBLISH
X-WR-CALNAME:Bridges of Hope
X-ORIGINAL-URL:https://www.bridgessc.org
X-WR-CALDESC:Events for Bridges of Hope
REFRESH-INTERVAL;VALUE=DURATION:PT1H
X-Robots-Tag:noindex
X-PUBLISHED-TTL:PT1H
BEGIN:VTIMEZONE
TZID:America/New_York
BEGIN:DAYLIGHT
TZOFFSETFROM:-0500
TZOFFSETTO:-0400
TZNAME:EDT
DTSTART:20200308T070000
END:DAYLIGHT
BEGIN:STANDARD
TZOFFSETFROM:-0400
TZOFFSETTO:-0500
TZNAME:EST
DTSTART:20201101T060000
END:STANDARD
BEGIN:DAYLIGHT
TZOFFSETFROM:-0500
TZOFFSETTO:-0400
TZNAME:EDT
DTSTART:20210314T070000
END:DAYLIGHT
BEGIN:STANDARD
TZOFFSETFROM:-0400
TZOFFSETTO:-0500
TZNAME:EST
DTSTART:20211107T060000
END:STANDARD
BEGIN:DAYLIGHT
TZOFFSETFROM:-0500
TZOFFSETTO:-0400
TZNAME:EDT
DTSTART:20220313T070000
END:DAYLIGHT
BEGIN:STANDARD
TZOFFSETFROM:-0400
TZOFFSETTO:-0500
TZNAME:EST
DTSTART:20221106T060000
END:STANDARD
END:VTIMEZONE
BEGIN:VEVENT
DTSTART;TZID=America/New_York:20211109T123000
DTEND;TZID=America/New_York:20211109T160000
DTSTAMP:20260423T025259
CREATED:20210630T235912Z
LAST-MODIFIED:20211107T114759Z
UID:4992-1636461000-1636473600@www.bridgessc.org
SUMMARY:Community Candlelight
DESCRIPTION:POSTPONED: November 7- Community Candlelight \nRescheduled: November 9th \n5:30pm \nLocation: Hampton Park Charleston\, SC \n30 Mary Murray Dr\, Charleston\, SC 29403 \nOur community rituals are open to the public & provide a rare opportunity to collectively acknowledge our losses\, share our stories\, & affirm each other as we grieve.
URL:https://www.bridgessc.org/event/community-candlelight/
LOCATION:Hampton Park\, 30 Mary Murray Dr.\, Charleston\, SC\, 29403\, United States
ORGANIZER;CN="Bridges of Hope":MAILTO:info@bridgessc.org
END:VEVENT
BEGIN:VEVENT
DTSTART;TZID=America/New_York:20211109T130000
DTEND;TZID=America/New_York:20211109T141500
DTSTAMP:20260423T025259
CREATED:20210628T222440Z
LAST-MODIFIED:20211019T181005Z
UID:4724-1636462800-1636467300@www.bridgessc.org
SUMMARY:Family Workshop November
DESCRIPTION:November 9 Time: 6:00 – 7:15 PM Registration Required \nLocation: Bridges of Hope 1691 Turnbull Ave. North Charleston \nJoin us for a FREE family workshop\, pizza (served at 6pm)\, and activities for the whole family to enjoy. This month we will be making Placemats & Collages together.
URL:https://www.bridgessc.org/event/family-workshop-november/
LOCATION:Bridges of Hope\, 1691 Turnbull Ave.\, North Charleston\,\, SC\, 29405\, United States
ORGANIZER;CN="Bridges of Hope":MAILTO:info@bridgessc.org
END:VEVENT
BEGIN:VEVENT
DTSTART;TZID=America/New_York:20211112T100000
DTEND;TZID=America/New_York:20211112T150000
DTSTAMP:20260423T025259
CREATED:20210630T235537Z
LAST-MODIFIED:20211110T134613Z
UID:4990-1636711200-1636729200@www.bridgessc.org
SUMMARY:Children's Grief Webcast Conference
DESCRIPTION:Children’s Webcast Grief Conference \nBuilding Resilient Schools and Communities: Lessons Learned \nLocation: Virtual via Zoom | Bridges of Hope 1691 Turnbull Ave. North Charleston \nFor Children’s Grief Awareness Month\, Bridges of Hope will again host a Virtual Fall Conference on Children’s Grief presented by National Alliance for Children’s Grief. This year’s conference entitled “Building Resilient Schools and Communities: Lessons Learned” will take place on Friday\, November 12\, 2021. * No CEU’s are available for this viewing. This popular webcast will feature thought leaders from the field of childhood bereavement who appeal to a diverse audience\, including\, funeral service\, hospice care\, health care\, education\, mental health\, child welfare\, and bereavement support professionals. \nSession Overview: \n10:00 AM – 12:00 PM EDT –  Building Resilient Communities and Schools After a Mass Tragedy presented by Stephanie Cinque\, LMSA \n1:00 PM – 3:00 PM EDT – Utilizing Grief Support to Build Resilient Communities and Schools presented by Darcy Walker Krause\, MSW\, LSW\, J.D.; and Jayme Banks Ph.D. \nPlease enable JavaScript in your browser to complete this form.Name *FirstLastTitleEmployer or School Affiliation Email *How many people are you registering at this time? Name 2 (optional)FirstLastEmail 2Name 3 (optional) FirstLastEmail 3Name 4 (optional) FirstLastEmail 4Name 5 (optional) FirstLastEmail 5Do you have any allergies or dietary restrictions?YesNoAllergies and Dietary RestrictionsWould you like to donate to Bridges of Hope to support future similar offerings & grief support services for children\, teens & families ? Not at this time.Yes!Donation AmountPlease designated the amount you would like to donate.AddressAddress Line 1Address Line 2City--- Select state ---AlabamaAlaskaArizonaArkansasCaliforniaColoradoConnecticutDelawareDistrict of ColumbiaFloridaGeorgiaHawaiiIdahoIllinoisIndianaIowaKansasKentuckyLouisianaMaineMarylandMassachusettsMichiganMinnesotaMississippiMissouriMontanaNebraskaNevadaNew HampshireNew JerseyNew MexicoNew YorkNorth CarolinaNorth DakotaOhioOklahomaOregonPennsylvaniaRhode IslandSouth CarolinaSouth DakotaTennesseeTexasUtahVermontVirginiaWashingtonWest VirginiaWisconsinWyomingStateZip CodeStripe Credit Card *CardName on CardTotalPrice: $0.00Submit  \n\n  \n\n\nSession 1 Details: Building Resilient Communities and Schools After a Mass Tragedy \n\nSpeaker: Stephanie Cinque\, LMSW\n\n\nDescription: The Resiliency Center of Newtown (RCN) will be sharing how a community responds after a mass trauma. When a large-scale event happens in your community\, like the shooting at Sandy Hook School on December 14\, 2012 life changes for everyone. What steps are taking for recovery\, what lessons were learned and how we move forward. This session will also address responding in schools with a trauma informed approach and building resilient children.\n\n\nLearning Objectives:\n\nExplain trauma and its many forms\nDescribe how the brain responds to trauma\nDiscuss how you can continue to support your community years after a traumatic event\n\n\nSession 2 Details: Utilizing Grief Support to Build Resilient Communities and Schools \n Speakers: Darcy Walker Krause\, MSW\, LSW\, J.D.; Jayme Banks\, PhD\nDescription: Having built a strong connection to support Philadelphia’s children and youth\, Dr. Jayme Banks\, Director of Trauma-Informed Practices at the School District of Philadelphia\, and Darcy Walker Krause\, J.D.\, LSW\, Executive Director at Uplift Center for Grieving Children\, will share how their organizations have worked together to create grief supports for students in the school setting. Dr. Banks and Ms. Walker Krause will guide participants through the literature around resiliency\, examine how the grief and post-crisis support collaboration fosters resiliency in the school setting\, and will discuss other innovative collaborative responses\, including the award-winning Philly HopeLine created as a response to the pandemic.\n\n\nLearning Objectives:\n\nDiscuss the ways that grief and loss impact youth in the school setting\nIdentify how grief support can foster resilience and what kind of specific models are in practice.\nAssess ways of creating resiliency-fostering supports and partnerships in your community.\n\n  \n\n*For more information about the live webcast held on November 5\, 2021\, please visit https://app.ce-go.com/nacg-annual-fall-conference/home
URL:https://www.bridgessc.org/event/childrens-grief-conference/
LOCATION:Bridges of Hope\, 1691 Turnbull Ave.\, North Charleston\,\, SC\, 29405\, United States
ORGANIZER;CN="Bridges of Hope":MAILTO:info@bridgessc.org
END:VEVENT
END:VCALENDAR