BEGIN:VCALENDAR
VERSION:2.0
PRODID:-//Bridges of Hope - ECPv6.15.20//NONSGML v1.0//EN
CALSCALE:GREGORIAN
METHOD:PUBLISH
X-WR-CALNAME:Bridges of Hope
X-ORIGINAL-URL:https://www.bridgessc.org
X-WR-CALDESC:Events for Bridges of Hope
REFRESH-INTERVAL;VALUE=DURATION:PT1H
X-Robots-Tag:noindex
X-PUBLISHED-TTL:PT1H
BEGIN:VTIMEZONE
TZID:America/New_York
BEGIN:DAYLIGHT
TZOFFSETFROM:-0500
TZOFFSETTO:-0400
TZNAME:EDT
DTSTART:20200308T070000
END:DAYLIGHT
BEGIN:STANDARD
TZOFFSETFROM:-0400
TZOFFSETTO:-0500
TZNAME:EST
DTSTART:20201101T060000
END:STANDARD
BEGIN:DAYLIGHT
TZOFFSETFROM:-0500
TZOFFSETTO:-0400
TZNAME:EDT
DTSTART:20210314T070000
END:DAYLIGHT
BEGIN:STANDARD
TZOFFSETFROM:-0400
TZOFFSETTO:-0500
TZNAME:EST
DTSTART:20211107T060000
END:STANDARD
BEGIN:DAYLIGHT
TZOFFSETFROM:-0500
TZOFFSETTO:-0400
TZNAME:EDT
DTSTART:20220313T070000
END:DAYLIGHT
BEGIN:STANDARD
TZOFFSETFROM:-0400
TZOFFSETTO:-0500
TZNAME:EST
DTSTART:20221106T060000
END:STANDARD
END:VTIMEZONE
BEGIN:VEVENT
DTSTART;TZID=America/New_York:20210908T100000
DTEND;TZID=America/New_York:20210908T120000
DTSTAMP:20260422T235218
CREATED:20210820T175105Z
LAST-MODIFIED:20210820T175105Z
UID:5579-1631095200-1631102400@www.bridgessc.org
SUMMARY:Sand Dollar Club Training
DESCRIPTION:Please enable JavaScript in your browser to complete this form.Name *FirstLastEmail *What Training Session are you going to attend ?Jan 18th 1-2:30I can't do the 18th at 1-2:30\, but would like to attend one!If OtherLet us know what time & date work best! We would love to schedule something with you! Submit
URL:https://www.bridgessc.org/event/sand-dollar-club-training/
ORGANIZER;CN="Bridges of Hope":MAILTO:info@bridgessc.org
END:VEVENT
BEGIN:VEVENT
DTSTART;TZID=America/New_York:20210909T130000
DTEND;TZID=America/New_York:20210909T150000
DTSTAMP:20260422T235218
CREATED:20210820T175151Z
LAST-MODIFIED:20210820T175151Z
UID:5581-1631192400-1631199600@www.bridgessc.org
SUMMARY:Sand Dollar Club Training
DESCRIPTION:Please enable JavaScript in your browser to complete this form.Name *FirstLastEmail *What Training Session are you going to attend ?Jan 18th 1-2:30I can't do the 18th at 1-2:30\, but would like to attend one!If OtherLet us know what time & date work best! We would love to schedule something with you! Submit
URL:https://www.bridgessc.org/event/sand-dollar-club-training-2/
ORGANIZER;CN="Bridges of Hope":MAILTO:info@bridgessc.org
END:VEVENT
BEGIN:VEVENT
DTSTART;TZID=America/New_York:20210912T060000
DTEND;TZID=America/New_York:20210912T120000
DTSTAMP:20260422T235218
CREATED:20210628T230525Z
LAST-MODIFIED:20210629T174601Z
UID:4742-1631426400-1631448000@www.bridgessc.org
SUMMARY:Family Day in the Park “Stories Among Us”
DESCRIPTION:September 12\, 2021- Family Day in the Park “Stories Among Us” \n10:00am -4:00pm \nJames Island County Park \n871 Riverland Dr\, Charleston\, SC 29412 \nAll children ages 4 and up\, who are grieving a death are eligible to attend with their support system. Together we will learn the power of stories and storytelling through an interactive day for the whole family. Each family will have an opportunity to record a piece of their story through StoryCorps Road to Resilience Program. Registration Required
URL:https://www.bridgessc.org/event/family-day-in-the-park-stories-among-us/
LOCATION:James Island County Park\, 871 Riverland Dr\, Charleston\, SC\, 29412\, United States
ORGANIZER;CN="Bridges of Hope":MAILTO:info@bridgessc.org
END:VEVENT
BEGIN:VEVENT
DTSTART;TZID=America/New_York:20210914T140000
DTEND;TZID=America/New_York:20210914T153000
DTSTAMP:20260422T235218
CREATED:20210628T221950Z
LAST-MODIFIED:20210701T161550Z
UID:4720-1631628000-1631633400@www.bridgessc.org
SUMMARY:Family Workshop September
DESCRIPTION:September 14 Time: 6:00 – 7:15 PM Registration Required \nLocation: Bridges of Hope 1691 Turnbull Ave. North Charleston \nJoin us for a FREE family workshop\, pizza (served at 6pm)\, and activities for the whole family to enjoy. This month will be making Mindfulness Jars & Stress Balls together.
URL:https://www.bridgessc.org/event/family-workshop-september/
LOCATION:Bridges of Hope\, 1691 Turnbull Ave.\, North Charleston\,\, SC\, 29405\, United States
ORGANIZER;CN="Bridges of Hope":MAILTO:info@bridgessc.org
END:VEVENT
END:VCALENDAR